BEGIN:VCALENDAR
VERSION:2.0
PRODID:-//East Grinstead Flower Club - ECPv6.15.20//NONSGML v1.0//EN
CALSCALE:GREGORIAN
METHOD:PUBLISH
X-WR-CALNAME:East Grinstead Flower Club
X-ORIGINAL-URL:https://www.eastgrinsteadflowerclub.co.uk
X-WR-CALDESC:Events for East Grinstead Flower Club
REFRESH-INTERVAL;VALUE=DURATION:PT1H
X-Robots-Tag:noindex
X-PUBLISHED-TTL:PT1H
BEGIN:VTIMEZONE
TZID:Europe/London
BEGIN:DAYLIGHT
TZOFFSETFROM:+0000
TZOFFSETTO:+0100
TZNAME:BST
DTSTART:20240331T010000
END:DAYLIGHT
BEGIN:STANDARD
TZOFFSETFROM:+0100
TZOFFSETTO:+0000
TZNAME:GMT
DTSTART:20241027T010000
END:STANDARD
BEGIN:DAYLIGHT
TZOFFSETFROM:+0000
TZOFFSETTO:+0100
TZNAME:BST
DTSTART:20250330T010000
END:DAYLIGHT
BEGIN:STANDARD
TZOFFSETFROM:+0100
TZOFFSETTO:+0000
TZNAME:GMT
DTSTART:20251026T010000
END:STANDARD
BEGIN:DAYLIGHT
TZOFFSETFROM:+0000
TZOFFSETTO:+0100
TZNAME:BST
DTSTART:20260329T010000
END:DAYLIGHT
BEGIN:STANDARD
TZOFFSETFROM:+0100
TZOFFSETTO:+0000
TZNAME:GMT
DTSTART:20261025T010000
END:STANDARD
END:VTIMEZONE
BEGIN:VEVENT
DTSTART;TZID=Europe/London:20251203T190000
DTEND;TZID=Europe/London:20251203T213000
DTSTAMP:20260419T205542
CREATED:20251222T093334Z
LAST-MODIFIED:20251222T095148Z
UID:1597-1764788400-1764797400@www.eastgrinsteadflowerclub.co.uk
SUMMARY:December Meeting 2025
DESCRIPTION:Angela Woodley – Christmas Cheer\nCompetition: Seasonal Sparkle (an exhibit 60cm x 60cm height unlimited)\nThis event is free to members\, £10 for non-members/guests. \n1st visit for guests to our club is free (excluding December).
URL:https://www.eastgrinsteadflowerclub.co.uk/event/december-meeting-2025/
LOCATION:St John’s Church Hall\, The Glebe\, Felbridge\, RH19 2QH\, United Kingdom
CATEGORIES:Competition,Meeting
ATTACH;FMTTYPE=image/png:https://www.eastgrinsteadflowerclub.co.uk/wp-content/uploads/2021/05/Website-Header-Image-e1619898313123.png
END:VEVENT
END:VCALENDAR